Package: Rtreemix Version: 1.66.0 Command: /Library/Frameworks/R.framework/Resources/bin/R CMD check --install=check:Rtreemix.install-out.txt --library=/Library/Frameworks/R.framework/Resources/library --no-vignettes --timings Rtreemix_1.66.0.tar.gz StartedAt: 2024-06-09 22:45:34 -0400 (Sun, 09 Jun 2024) EndedAt: 2024-06-09 22:46:44 -0400 (Sun, 09 Jun 2024) EllapsedTime: 70.1 seconds RetCode: 0 Status: WARNINGS CheckDir: Rtreemix.Rcheck Warnings: 1