Package: Rtreemix Version: 1.66.0 Command: rm -rf Rtreemix.buildbin-libdir && mkdir Rtreemix.buildbin-libdir && /Users/biocbuild/BBS/utils/build-universal.sh Rtreemix_1.66.0.tar.gz /Library/Frameworks/R.framework/Resources/bin/R Rtreemix.buildbin-libdir StartedAt: 2024-06-10 00:37:05 -0400 (Mon, 10 Jun 2024) EndedAt: 2024-06-10 00:38:15 -0400 (Mon, 10 Jun 2024) EllapsedTime: 70.0 seconds RetCode: 0 Status: OK PackageFile: Rtreemix_1.66.0.tgz PackageFileSize: 1.029 MiB