Package: Rtreemix Version: 1.66.0 Command: /Library/Frameworks/R.framework/Resources/bin/R CMD INSTALL Rtreemix StartedAt: 2024-10-16 17:18:14 -0400 (Wed, 16 Oct 2024) EndedAt: 2024-10-16 17:19:07 -0400 (Wed, 16 Oct 2024) EllapsedTime: 53.1 seconds RetCode: 0 Status: OK