Package: Rtreemix Version: 1.66.0 Command: /Library/Frameworks/R.framework/Resources/bin/R CMD check --install=check:Rtreemix.install-out.txt --library=/Library/Frameworks/R.framework/Resources/library --no-vignettes --timings Rtreemix_1.66.0.tar.gz StartedAt: 2024-10-18 10:32:57 -0400 (Fri, 18 Oct 2024) EndedAt: 2024-10-18 10:34:07 -0400 (Fri, 18 Oct 2024) EllapsedTime: 70.3 seconds RetCode: 0 Status: WARNINGS CheckDir: Rtreemix.Rcheck Warnings: 1