Package: Rtreemix Version: 1.66.0 Command: rm -rf Rtreemix.buildbin-libdir && mkdir Rtreemix.buildbin-libdir && /Users/biocbuild/BBS/utils/build-universal.sh Rtreemix_1.66.0.tar.gz /Library/Frameworks/R.framework/Resources/bin/R Rtreemix.buildbin-libdir StartedAt: 2024-10-15 20:02:51 -0400 (Tue, 15 Oct 2024) EndedAt: 2024-10-15 20:03:56 -0400 (Tue, 15 Oct 2024) EllapsedTime: 64.8 seconds RetCode: 0 Status: OK PackageFile: Rtreemix_1.66.0.tgz PackageFileSize: 1.004 MiB