Package: Rtpca Version: 1.14.0 Command: chmod a+r Rtpca -R && E:\biocbuild\bbs-3.19-bioc\R\bin\R.exe CMD build --keep-empty-dirs --no-resave-data Rtpca StartedAt: 2024-10-16 21:39:15 -0400 (Wed, 16 Oct 2024) EndedAt: 2024-10-16 21:40:06 -0400 (Wed, 16 Oct 2024) EllapsedTime: 51.6 seconds RetCode: 0 Status: OK PackageFile: Rtpca_1.14.0.tar.gz PackageFileSize: 2.009 MiB