Package: Rtpca Version: 1.14.0 Command: /Library/Frameworks/R.framework/Resources/bin/R CMD build --keep-empty-dirs --no-resave-data Rtpca StartedAt: 2024-10-17 08:07:25 -0400 (Thu, 17 Oct 2024) EndedAt: 2024-10-17 08:07:58 -0400 (Thu, 17 Oct 2024) EllapsedTime: 32.6 seconds RetCode: 0 Status: OK PackageFile: Rtpca_1.14.0.tar.gz PackageFileSize: 2.12 MiB