Package: Rsubread Version: 2.18.0 Command: E:\biocbuild\bbs-3.19-bioc\R\bin\R.exe CMD INSTALL Rsubread StartedAt: 2024-10-16 15:59:28 -0400 (Wed, 16 Oct 2024) EndedAt: 2024-10-16 16:00:57 -0400 (Wed, 16 Oct 2024) EllapsedTime: 89.1 seconds RetCode: 0 Status: OK