Package: Rsubread Version: 2.18.0 Command: rm -rf Rsubread.buildbin-libdir && mkdir Rsubread.buildbin-libdir && E:\biocbuild\bbs-3.19-bioc\R\bin\R.exe CMD INSTALL --build --library=Rsubread.buildbin-libdir Rsubread_2.18.0.tar.gz StartedAt: 2024-10-17 08:32:13 -0400 (Thu, 17 Oct 2024) EndedAt: 2024-10-17 08:33:54 -0400 (Thu, 17 Oct 2024) EllapsedTime: 100.7 seconds RetCode: 0 Status: OK PackageFile: Rsubread_2.18.0.zip PackageFileSize: 13.04 MiB