Package: Rsubread Version: 2.18.0 Command: chmod a+r Rsubread -R && F:\biocbuild\bbs-3.19-bioc\R\bin\R.exe CMD build --keep-empty-dirs --no-resave-data Rsubread StartedAt: 2024-06-26 21:33:05 -0400 (Wed, 26 Jun 2024) EndedAt: 2024-06-26 21:35:34 -0400 (Wed, 26 Jun 2024) EllapsedTime: 149.1 seconds RetCode: 0 Status: OK PackageFile: Rsubread_2.18.0.tar.gz PackageFileSize: 12.81 MiB