Package: Rsubread Version: 2.18.0 Command: rm -rf Rsubread.buildbin-libdir && mkdir Rsubread.buildbin-libdir && F:\biocbuild\bbs-3.19-bioc\R\bin\R.exe CMD INSTALL --build --library=Rsubread.buildbin-libdir Rsubread_2.18.0.tar.gz StartedAt: 2024-06-27 08:50:08 -0400 (Thu, 27 Jun 2024) EndedAt: 2024-06-27 08:51:35 -0400 (Thu, 27 Jun 2024) EllapsedTime: 87.4 seconds RetCode: 0 Status: OK PackageFile: Rsubread_2.18.0.zip PackageFileSize: 13.04 MiB