Package: Rsubread Version: 2.18.0 Command: rm -rf Rsubread.buildbin-libdir && mkdir Rsubread.buildbin-libdir && /Users/biocbuild/BBS/utils/build-universal.sh Rsubread_2.18.0.tar.gz /Library/Frameworks/R.framework/Resources/bin/R Rsubread.buildbin-libdir StartedAt: 2024-10-17 17:03:59 -0400 (Thu, 17 Oct 2024) EndedAt: 2024-10-17 17:05:35 -0400 (Thu, 17 Oct 2024) EllapsedTime: 95.3 seconds RetCode: 0 Status: OK PackageFile: Rsubread_2.18.0.tgz PackageFileSize: 13.19 MiB