Package: Rsubread Version: 2.18.0 Command: /Library/Frameworks/R.framework/Resources/bin/R CMD build --keep-empty-dirs --no-resave-data Rsubread StartedAt: 2024-06-09 17:59:48 -0400 (Sun, 09 Jun 2024) EndedAt: 2024-06-09 18:13:42 -0400 (Sun, 09 Jun 2024) EllapsedTime: 833.9 seconds RetCode: 0 Status: OK PackageFile: Rsubread_2.18.0.tar.gz PackageFileSize: 12.92 MiB