Package: Rsubread Version: 2.18.0 Command: /Library/Frameworks/R.framework/Resources/bin/R CMD check --install=check:Rsubread.install-out.txt --library=/Library/Frameworks/R.framework/Resources/library --no-vignettes --timings Rsubread_2.18.0.tar.gz StartedAt: 2024-06-11 03:48:04 -0400 (Tue, 11 Jun 2024) EndedAt: 2024-06-11 04:03:52 -0400 (Tue, 11 Jun 2024) EllapsedTime: 948.3 seconds RetCode: 0 Status: OK CheckDir: Rsubread.Rcheck Warnings: 0