Package: Rsubread Version: 2.18.0 Command: /Library/Frameworks/R.framework/Resources/bin/R CMD build --keep-empty-dirs --no-resave-data Rsubread StartedAt: 2024-06-10 03:49:21 -0400 (Mon, 10 Jun 2024) EndedAt: 2024-06-10 04:03:13 -0400 (Mon, 10 Jun 2024) EllapsedTime: 831.3 seconds RetCode: 0 Status: OK PackageFile: Rsubread_2.18.0.tar.gz PackageFileSize: 12.92 MiB