Package: Rsubread Version: 2.18.0 Command: /Library/Frameworks/R.framework/Resources/bin/R CMD check --install=check:Rsubread.install-out.txt --library=/Library/Frameworks/R.framework/Resources/library --no-vignettes --timings Rsubread_2.18.0.tar.gz StartedAt: 2024-10-18 10:20:01 -0400 (Fri, 18 Oct 2024) EndedAt: 2024-10-18 10:35:19 -0400 (Fri, 18 Oct 2024) EllapsedTime: 917.8 seconds RetCode: 0 Status: OK CheckDir: Rsubread.Rcheck Warnings: 0