Package: Rsamtools Version: 2.20.0 Command: /Library/Frameworks/R.framework/Resources/bin/R CMD INSTALL Rsamtools StartedAt: 2024-10-16 15:28:28 -0400 (Wed, 16 Oct 2024) EndedAt: 2024-10-16 15:30:02 -0400 (Wed, 16 Oct 2024) EllapsedTime: 94.4 seconds RetCode: 0 Status: OK