Package: Rsamtools Version: 2.20.0 Command: /Library/Frameworks/R.framework/Resources/bin/R CMD check --install=check:Rsamtools.install-out.txt --library=/Library/Frameworks/R.framework/Resources/library --no-vignettes --timings Rsamtools_2.20.0.tar.gz StartedAt: 2024-10-17 12:13:41 -0400 (Thu, 17 Oct 2024) EndedAt: 2024-10-17 12:20:11 -0400 (Thu, 17 Oct 2024) EllapsedTime: 390.0 seconds RetCode: 0 Status: WARNINGS CheckDir: Rsamtools.Rcheck Warnings: 2