Package: Rsamtools Version: 2.20.0 Command: rm -rf Rsamtools.buildbin-libdir && mkdir Rsamtools.buildbin-libdir && /Users/biocbuild/BBS/utils/build-universal.sh Rsamtools_2.20.0.tar.gz /Library/Frameworks/R.framework/Resources/bin/R Rsamtools.buildbin-libdir StartedAt: 2024-06-10 00:36:53 -0400 (Mon, 10 Jun 2024) EndedAt: 2024-06-10 00:38:06 -0400 (Mon, 10 Jun 2024) EllapsedTime: 73.2 seconds RetCode: 0 Status: OK PackageFile: Rsamtools_2.20.0.tgz PackageFileSize: 4.007 MiB