Package: Rqc Version: 1.38.0 Command: rm -rf Rqc.buildbin-libdir && mkdir Rqc.buildbin-libdir && E:\biocbuild\bbs-3.19-bioc\R\bin\R.exe CMD INSTALL --build --library=Rqc.buildbin-libdir Rqc_1.38.0.tar.gz StartedAt: 2024-10-17 08:31:51 -0400 (Thu, 17 Oct 2024) EndedAt: 2024-10-17 08:33:03 -0400 (Thu, 17 Oct 2024) EllapsedTime: 71.9 seconds RetCode: 0 Status: OK PackageFile: Rqc_1.38.0.zip PackageFileSize: 1.047 MiB