Package: Rqc Version: 1.38.0 Command: rm -rf Rqc.buildbin-libdir && mkdir Rqc.buildbin-libdir && /Users/biocbuild/BBS/utils/build-universal.sh Rqc_1.38.0.tar.gz /Library/Frameworks/R.framework/Resources/bin/R Rqc.buildbin-libdir StartedAt: 2024-10-17 17:03:25 -0400 (Thu, 17 Oct 2024) EndedAt: 2024-10-17 17:05:40 -0400 (Thu, 17 Oct 2024) EllapsedTime: 135.0 seconds RetCode: 0 Status: OK PackageFile: Rqc_1.38.0.tgz PackageFileSize: 1.441 MiB