Package: Rqc Version: 1.38.0 Command: /Library/Frameworks/R.framework/Resources/bin/R CMD check --install=check:Rqc.install-out.txt --library=/Library/Frameworks/R.framework/Resources/library --no-vignettes --timings Rqc_1.38.0.tar.gz StartedAt: 2024-06-11 03:44:09 -0400 (Tue, 11 Jun 2024) EndedAt: 2024-06-11 03:54:05 -0400 (Tue, 11 Jun 2024) EllapsedTime: 596.4 seconds RetCode: 0 Status: OK CheckDir: Rqc.Rcheck Warnings: 0