Package: Rqc Version: 1.38.0 Command: rm -rf Rqc.buildbin-libdir && mkdir Rqc.buildbin-libdir && /Users/biocbuild/BBS/utils/build-universal.sh Rqc_1.38.0.tar.gz /Library/Frameworks/R.framework/Resources/bin/R Rqc.buildbin-libdir StartedAt: 2024-06-11 12:57:22 -0400 (Tue, 11 Jun 2024) EndedAt: 2024-06-11 12:59:20 -0400 (Tue, 11 Jun 2024) EllapsedTime: 117.6 seconds RetCode: 0 Status: OK PackageFile: Rqc_1.38.0.tgz PackageFileSize: 1.438 MiB