Package: Rqc Version: 1.38.0 Maintainer: Welliton Souza MaintainerEmail: well309 at gmail.com git_url: https://git.bioconductor.org/packages/Rqc git_branch: RELEASE_3_19 git_last_commit: 68a2092 git_last_commit_date: 2024-04-30 10:40:19 -0400 (Tue, 30 Apr 2024)