Package: RolDE Version: 1.8.0 Command: E:\biocbuild\bbs-3.19-bioc\R\bin\R.exe CMD INSTALL RolDE StartedAt: 2024-10-16 16:35:16 -0400 (Wed, 16 Oct 2024) EndedAt: 2024-10-16 16:35:46 -0400 (Wed, 16 Oct 2024) EllapsedTime: 29.7 seconds RetCode: 0 Status: OK