Package: RolDE Version: 1.8.0 Command: rm -rf RolDE.buildbin-libdir && mkdir RolDE.buildbin-libdir && E:\biocbuild\bbs-3.19-bioc\R\bin\R.exe CMD INSTALL --build --library=RolDE.buildbin-libdir RolDE_1.8.0.tar.gz StartedAt: 2024-10-17 08:31:31 -0400 (Thu, 17 Oct 2024) EndedAt: 2024-10-17 08:31:58 -0400 (Thu, 17 Oct 2024) EllapsedTime: 26.4 seconds RetCode: 0 Status: OK PackageFile: RolDE_1.8.0.zip PackageFileSize: 1.36 MiB