Package: RolDE Version: 1.8.0 Command: F:\biocbuild\bbs-3.19-bioc\R\bin\R.exe CMD INSTALL RolDE StartedAt: 2024-06-26 15:58:37 -0400 (Wed, 26 Jun 2024) EndedAt: 2024-06-26 15:59:08 -0400 (Wed, 26 Jun 2024) EllapsedTime: 31.3 seconds RetCode: 0 Status: OK