Package: RolDE Version: 1.8.0 Command: /Library/Frameworks/R.framework/Resources/bin/R CMD INSTALL RolDE StartedAt: 2024-10-16 15:46:58 -0400 (Wed, 16 Oct 2024) EndedAt: 2024-10-16 15:47:47 -0400 (Wed, 16 Oct 2024) EllapsedTime: 49.6 seconds RetCode: 0 Status: OK