Package: RolDE Version: 1.8.0 Command: /Library/Frameworks/R.framework/Resources/bin/R CMD build --keep-empty-dirs --no-resave-data RolDE StartedAt: 2024-10-16 22:43:02 -0400 (Wed, 16 Oct 2024) EndedAt: 2024-10-16 22:44:25 -0400 (Wed, 16 Oct 2024) EllapsedTime: 83.1 seconds RetCode: 0 Status: OK PackageFile: RolDE_1.8.0.tar.gz PackageFileSize: 1.266 MiB