Package: RolDE Version: 1.8.0 Command: rm -rf RolDE.buildbin-libdir && mkdir RolDE.buildbin-libdir && /Users/biocbuild/BBS/utils/build-universal.sh RolDE_1.8.0.tar.gz /Library/Frameworks/R.framework/Resources/bin/R RolDE.buildbin-libdir StartedAt: 2024-06-10 00:36:27 -0400 (Mon, 10 Jun 2024) EndedAt: 2024-06-10 00:36:58 -0400 (Mon, 10 Jun 2024) EllapsedTime: 31.3 seconds RetCode: 0 Status: OK PackageFile: RolDE_1.8.0.tgz PackageFileSize: 1.384 MiB