Package: RolDE Version: 1.8.0 Command: /home/biocbuild/R/R-beta-2024-04-15_r86425/bin/R CMD check --install=check:RolDE.install-out.txt --library=/home/biocbuild/R/R-beta-2024-04-15_r86425/site-library --no-vignettes --timings RolDE_1.8.0.tar.gz StartedAt: 2024-05-09 11:22:42 -0000 (Thu, 09 May 2024) EndedAt: 2024-05-09 11:28:17 -0000 (Thu, 09 May 2024) EllapsedTime: 334.6 seconds RetCode: 0 Status: OK CheckDir: RolDE.Rcheck Warnings: 0