Package: RolDE Version: 1.8.0 Command: /home/biocbuild/R/R-beta-2024-04-15_r86425/bin/R CMD build --keep-empty-dirs --no-resave-data RolDE StartedAt: 2024-05-09 03:09:29 -0000 (Thu, 09 May 2024) EndedAt: 2024-05-09 03:10:10 -0000 (Thu, 09 May 2024) EllapsedTime: 41.1 seconds RetCode: 0 Status: OK PackageFile: RolDE_1.8.0.tar.gz PackageFileSize: 1.244 MiB