Package: RolDE Version: 1.8.0 Command: /Library/Frameworks/R.framework/Resources/bin/R CMD build --keep-empty-dirs --no-resave-data RolDE StartedAt: 2024-10-17 07:59:04 -0400 (Thu, 17 Oct 2024) EndedAt: 2024-10-17 07:59:47 -0400 (Thu, 17 Oct 2024) EllapsedTime: 42.8 seconds RetCode: 0 Status: OK PackageFile: RolDE_1.8.0.tar.gz PackageFileSize: 1.267 MiB