Package: Rnits Version: 1.38.0 Command: E:\biocbuild\bbs-3.19-bioc\R\bin\R.exe CMD check --no-multiarch --install=check:Rnits.install-out.txt --library=E:\biocbuild\bbs-3.19-bioc\R\library --no-vignettes --timings Rnits_1.38.0.tar.gz StartedAt: 2024-10-17 05:11:38 -0400 (Thu, 17 Oct 2024) EndedAt: 2024-10-17 05:12:55 -0400 (Thu, 17 Oct 2024) EllapsedTime: 76.3 seconds RetCode: 0 Status: WARNINGS CheckDir: Rnits.Rcheck Warnings: 1