Package: Rnits Version: 1.38.0 Command: rm -rf Rnits.buildbin-libdir && mkdir Rnits.buildbin-libdir && E:\biocbuild\bbs-3.19-bioc\R\bin\R.exe CMD INSTALL --build --library=Rnits.buildbin-libdir Rnits_1.38.0.tar.gz StartedAt: 2024-10-17 08:31:20 -0400 (Thu, 17 Oct 2024) EndedAt: 2024-10-17 08:31:43 -0400 (Thu, 17 Oct 2024) EllapsedTime: 22.9 seconds RetCode: 0 Status: OK PackageFile: Rnits_1.38.0.zip PackageFileSize: 966.1 KiB