Package: Rnits Version: 1.38.0 Command: /Library/Frameworks/R.framework/Resources/bin/R CMD check --install=check:Rnits.install-out.txt --library=/Library/Frameworks/R.framework/Resources/library --no-vignettes --timings Rnits_1.38.0.tar.gz StartedAt: 2024-10-17 12:07:52 -0400 (Thu, 17 Oct 2024) EndedAt: 2024-10-17 12:10:28 -0400 (Thu, 17 Oct 2024) EllapsedTime: 156.7 seconds RetCode: 0 Status: WARNINGS CheckDir: Rnits.Rcheck Warnings: 1