Package: Rnits Version: 1.38.0 Command: /Library/Frameworks/R.framework/Resources/bin/R CMD check --install=check:Rnits.install-out.txt --library=/Library/Frameworks/R.framework/Resources/library --no-vignettes --timings Rnits_1.38.0.tar.gz StartedAt: 2024-05-26 23:51:44 -0400 (Sun, 26 May 2024) EndedAt: 2024-05-26 23:53:03 -0400 (Sun, 26 May 2024) EllapsedTime: 78.8 seconds RetCode: 0 Status: WARNINGS CheckDir: Rnits.Rcheck Warnings: 1