Package: Rnits Version: 1.38.0 Maintainer: Dipen P. Sangurdekar MaintainerEmail: dipen.sangurdekar at gmail.com git_url: https://git.bioconductor.org/packages/Rnits git_branch: RELEASE_3_19 git_last_commit: bf18de0 git_last_commit_date: 2024-04-30 10:38:32 -0400 (Tue, 30 Apr 2024)