Package: RnaSeqSampleSize Version: 2.14.0 Command: E:\biocbuild\bbs-3.19-bioc\R\bin\R.exe CMD INSTALL RnaSeqSampleSize StartedAt: 2024-10-16 17:21:44 -0400 (Wed, 16 Oct 2024) EndedAt: 2024-10-16 17:23:15 -0400 (Wed, 16 Oct 2024) EllapsedTime: 91.0 seconds RetCode: 0 Status: OK