Package: RnaSeqSampleSize Version: 2.14.0 Command: chmod a+r RnaSeqSampleSize -R && E:\biocbuild\bbs-3.19-bioc\R\bin\R.exe CMD build --keep-empty-dirs --no-resave-data RnaSeqSampleSize StartedAt: 2024-10-16 21:35:16 -0400 (Wed, 16 Oct 2024) EndedAt: 2024-10-16 21:37:39 -0400 (Wed, 16 Oct 2024) EllapsedTime: 143.3 seconds RetCode: 0 Status: OK PackageFile: RnaSeqSampleSize_2.14.0.tar.gz PackageFileSize: 236.4 KiB