Package: RnaSeqSampleSize Version: 2.14.0 Command: chmod a+r RnaSeqSampleSize -R && F:\biocbuild\bbs-3.19-bioc\R\bin\R.exe CMD build --keep-empty-dirs --no-resave-data RnaSeqSampleSize StartedAt: 2024-06-26 21:28:38 -0400 (Wed, 26 Jun 2024) EndedAt: 2024-06-26 21:30:53 -0400 (Wed, 26 Jun 2024) EllapsedTime: 134.8 seconds RetCode: 0 Status: OK PackageFile: RnaSeqSampleSize_2.14.0.tar.gz PackageFileSize: 235.5 KiB