Package: RnaSeqSampleSize Version: 2.14.0 Command: rm -rf RnaSeqSampleSize.buildbin-libdir && mkdir RnaSeqSampleSize.buildbin-libdir && F:\biocbuild\bbs-3.19-bioc\R\bin\R.exe CMD INSTALL --build --library=RnaSeqSampleSize.buildbin-libdir RnaSeqSampleSize_2.14.0.tar.gz StartedAt: 2024-06-27 08:49:02 -0400 (Thu, 27 Jun 2024) EndedAt: 2024-06-27 08:50:27 -0400 (Thu, 27 Jun 2024) EllapsedTime: 85.2 seconds RetCode: 0 Status: OK PackageFile: RnaSeqSampleSize_2.14.0.zip PackageFileSize: 644.1 KiB