Package: RnaSeqSampleSize Version: 2.14.0 Command: /home/biocbuild/bbs-3.19-bioc/R/bin/R CMD build --keep-empty-dirs --no-resave-data RnaSeqSampleSize StartedAt: 2024-10-16 20:30:45 -0400 (Wed, 16 Oct 2024) EndedAt: 2024-10-16 20:32:23 -0400 (Wed, 16 Oct 2024) EllapsedTime: 98.2 seconds RetCode: 0 Status: OK PackageFile: RnaSeqSampleSize_2.14.0.tar.gz PackageFileSize: 236.2 KiB