Package: RnaSeqSampleSize Version: 2.14.0 Command: /Library/Frameworks/R.framework/Resources/bin/R CMD INSTALL RnaSeqSampleSize StartedAt: 2024-10-16 16:50:06 -0400 (Wed, 16 Oct 2024) EndedAt: 2024-10-16 16:52:07 -0400 (Wed, 16 Oct 2024) EllapsedTime: 121.0 seconds RetCode: 0 Status: OK