Package: RnaSeqSampleSize Version: 2.14.0 Command: /Library/Frameworks/R.framework/Resources/bin/R CMD build --keep-empty-dirs --no-resave-data RnaSeqSampleSize StartedAt: 2024-10-16 22:42:13 -0400 (Wed, 16 Oct 2024) EndedAt: 2024-10-16 22:46:16 -0400 (Wed, 16 Oct 2024) EllapsedTime: 242.1 seconds RetCode: 0 Status: OK PackageFile: RnaSeqSampleSize_2.14.0.tar.gz PackageFileSize: 235.9 KiB