Package: RnaSeqSampleSize Version: 2.14.0 Command: /home/biocbuild/R/R-beta-2024-04-15_r86425/bin/R CMD INSTALL RnaSeqSampleSize StartedAt: 2024-05-08 21:06:26 -0000 (Wed, 08 May 2024) EndedAt: 2024-05-08 21:07:47 -0000 (Wed, 08 May 2024) EllapsedTime: 80.8 seconds RetCode: 0 Status: OK