Package: RnaSeqSampleSize Version: 2.14.0 Command: /Library/Frameworks/R.framework/Resources/bin/R CMD build --keep-empty-dirs --no-resave-data RnaSeqSampleSize StartedAt: 2024-06-10 03:42:04 -0400 (Mon, 10 Jun 2024) EndedAt: 2024-06-10 03:45:33 -0400 (Mon, 10 Jun 2024) EllapsedTime: 208.8 seconds RetCode: 1 Status: ERROR PackageFile: None PackageFileSize: NA