Package: RnaSeqSampleSize Version: 2.14.0 Command: /Library/Frameworks/R.framework/Resources/bin/R CMD INSTALL RnaSeqSampleSize StartedAt: 2024-10-16 18:56:55 -0400 (Wed, 16 Oct 2024) EndedAt: 2024-10-16 18:57:58 -0400 (Wed, 16 Oct 2024) EllapsedTime: 63.2 seconds RetCode: 0 Status: OK