Package: RnaSeqSampleSize Version: 2.14.0 Command: /Library/Frameworks/R.framework/Resources/bin/R CMD check --install=check:RnaSeqSampleSize.install-out.txt --library=/Library/Frameworks/R.framework/Resources/library --no-vignettes --timings RnaSeqSampleSize_2.14.0.tar.gz StartedAt: 2024-10-18 10:03:44 -0400 (Fri, 18 Oct 2024) EndedAt: 2024-10-18 10:11:34 -0400 (Fri, 18 Oct 2024) EllapsedTime: 469.4 seconds RetCode: 0 Status: OK CheckDir: RnaSeqSampleSize.Rcheck Warnings: 0