Package: RnaSeqSampleSize Version: 2.14.0 Command: /Library/Frameworks/R.framework/Resources/bin/R CMD build --keep-empty-dirs --no-resave-data RnaSeqSampleSize StartedAt: 2024-10-17 07:55:43 -0400 (Thu, 17 Oct 2024) EndedAt: 2024-10-17 07:58:01 -0400 (Thu, 17 Oct 2024) EllapsedTime: 138.2 seconds RetCode: 0 Status: OK PackageFile: RnaSeqSampleSize_2.14.0.tar.gz PackageFileSize: 235.9 KiB